BEGIN:VCALENDAR
VERSION:2.0
CALSCALE:GREGORIAN
PRODID:-//Diputació de Barcelona//DibaCMS//EN
BEGIN:VEVENT
UID:24523
DTSTAMP:20260422T063509
DTSTART:20120630T180000
DTEND:20120630T000000
SUMMARY:Teatre: Sopa de pedres
LOCATION:
METHOD:PUBLISH
X-WR-CALNAME:e-seu@ajpiera.cat
X-WR-TIMEZONE:Europe/Madrid
DESCRIPTION:Teatre: Sopa de pedres
URI:https://www.viladepiera.cat/actualitat/agenda/teatre-sopa-de-pedres.html
CLASS:PUBLIC
END:VEVENT
END:VCALENDAR
