BEGIN:VCALENDAR
VERSION:2.0
CALSCALE:GREGORIAN
PRODID:-//Diputació de Barcelona//DibaCMS//EN
BEGIN:VEVENT
UID:24528
DTSTAMP:20260422T021905
DTSTART:20120630T120500
DTEND:20120630T140000
SUMMARY:Inauguració de l'equipament "Ca la Mestra"
LOCATION:
METHOD:PUBLISH
X-WR-CALNAME:e-seu@ajpiera.cat
X-WR-TIMEZONE:Europe/Madrid
DESCRIPTION:Inauguració de l'equipament "Ca la Mestra"

URI:https://www.viladepiera.cat/actualitat/agenda/inauguracio-de-lequipament-ca-la-mestra.html
CLASS:PUBLIC
END:VEVENT
END:VCALENDAR
