BEGIN:VCALENDAR
VERSION:2.0
CALSCALE:GREGORIAN
PRODID:-//Diputació de Barcelona//DibaCMS//EN
BEGIN:VEVENT
UID:24535
DTSTAMP:20260422T012319
DTSTART:20120630T000000
DTEND:20120701T000000
SUMMARY:Festa del Barri dels Gats
LOCATION:
METHOD:PUBLISH
X-WR-CALNAME:e-seu@ajpiera.cat
X-WR-TIMEZONE:Europe/Madrid
DESCRIPTION:Festa del Barri dels Gats

URI:https://www.viladepiera.cat/actualitat/agenda/24535-festa-del-barri-dels-gats.html
CLASS:PUBLIC
END:VEVENT
END:VCALENDAR
