BEGIN:VCALENDAR
VERSION:2.0
CALSCALE:GREGORIAN
PRODID:-//Diputació de Barcelona//DibaCMS//EN
BEGIN:VEVENT
UID:24546
DTSTAMP:20260422T034722
DTSTART:20120706T213000
DTEND:20120706T213000
SUMMARY:Tallers DeMostra
LOCATION:
METHOD:PUBLISH
X-WR-CALNAME:e-seu@ajpiera.cat
X-WR-TIMEZONE:Europe/Madrid
DESCRIPTION:Tallers DeMostra

URI:https://www.viladepiera.cat/actualitat/agenda/tallers-demostra.html
CLASS:PUBLIC
END:VEVENT
END:VCALENDAR
