BEGIN:VCALENDAR
VERSION:2.0
CALSCALE:GREGORIAN
PRODID:-//Diputació de Barcelona//DibaCMS//EN
BEGIN:VEVENT
UID:24558
DTSTAMP:20260421T230624
DTSTART:20120707T000000
DTEND:20120708T000000
SUMMARY:Festa del Barri de Montserrat
LOCATION:
METHOD:PUBLISH
X-WR-CALNAME:e-seu@ajpiera.cat
X-WR-TIMEZONE:Europe/Madrid
DESCRIPTION:Festa del Barri de Montserrat

URI:https://www.viladepiera.cat/actualitat/agenda/24558-festa-del-barri-de-montserrat.html
CLASS:PUBLIC
END:VEVENT
END:VCALENDAR
