BEGIN:VCALENDAR
VERSION:2.0
CALSCALE:GREGORIAN
PRODID:-//Diputació de Barcelona//DibaCMS//EN
BEGIN:VEVENT
UID:24562
DTSTAMP:20260421T174010
DTSTART:20151227T190000
DTEND:20151227T000000
SUMMARY:Ball de tarda al Foment
LOCATION:
METHOD:PUBLISH
X-WR-CALNAME:e-seu@ajpiera.cat
X-WR-TIMEZONE:Europe/Madrid
DESCRIPTION:Ball de tarda al Foment
URI:https://www.viladepiera.cat/actualitat/agenda/24562-ball-de-tarda-al-foment.html
CLASS:PUBLIC
END:VEVENT
END:VCALENDAR
