BEGIN:VCALENDAR
VERSION:2.0
CALSCALE:GREGORIAN
PRODID:-//Diputació de Barcelona//DibaCMS//EN
BEGIN:VEVENT
UID:24564
DTSTAMP:20260421T213409
DTSTART:20120707T000000
DTEND:20120708T000000
SUMMARY:Festa de la Diversitat
LOCATION:
METHOD:PUBLISH
X-WR-CALNAME:e-seu@ajpiera.cat
X-WR-TIMEZONE:Europe/Madrid
DESCRIPTION:Festa de la Diversitat

URI:https://www.viladepiera.cat/actualitat/agenda/24564-festa-de-la-diversitat.html
CLASS:PUBLIC
END:VEVENT
END:VCALENDAR
