BEGIN:VCALENDAR
VERSION:2.0
CALSCALE:GREGORIAN
PRODID:-//Diputació de Barcelona//DibaCMS//EN
BEGIN:VEVENT
UID:24567
DTSTAMP:20260421T212610
DTSTART:20151228T170000
DTEND:20151230T000000
SUMMARY:Cicle de cinema infantil
LOCATION:
METHOD:PUBLISH
X-WR-CALNAME:e-seu@ajpiera.cat
X-WR-TIMEZONE:Europe/Madrid
DESCRIPTION:Cicle de cinema infantil

URI:https://www.viladepiera.cat/actualitat/agenda/cicle-de-cinema-infantil.html
CLASS:PUBLIC
END:VEVENT
END:VCALENDAR
