BEGIN:VCALENDAR
VERSION:2.0
CALSCALE:GREGORIAN
PRODID:-//Diputació de Barcelona//DibaCMS//EN
BEGIN:VEVENT
UID:24570
DTSTAMP:20260422T010219
DTSTART:20120713T000000
DTEND:20120713T000000
SUMMARY:Activitats esportives
LOCATION:
METHOD:PUBLISH
X-WR-CALNAME:e-seu@ajpiera.cat
X-WR-TIMEZONE:Europe/Madrid
DESCRIPTION:Activitats esportives
URI:https://www.viladepiera.cat/actualitat/agenda/24570-activitats-esportives.html
CLASS:PUBLIC
END:VEVENT
END:VCALENDAR
