BEGIN:VCALENDAR
VERSION:2.0
CALSCALE:GREGORIAN
PRODID:-//Diputació de Barcelona//DibaCMS//EN
BEGIN:VEVENT
UID:24576
DTSTAMP:20260422T010405
DTSTART:20160103T114500
DTEND:20160103T114500
SUMMARY:Concert d'Any Nou
LOCATION:
METHOD:PUBLISH
X-WR-CALNAME:e-seu@ajpiera.cat
X-WR-TIMEZONE:Europe/Madrid
DESCRIPTION:Concert d'Any Nou

URI:https://www.viladepiera.cat/actualitat/agenda/24576-concert-dany-nou.html
CLASS:PUBLIC
END:VEVENT
END:VCALENDAR
