BEGIN:VCALENDAR
VERSION:2.0
CALSCALE:GREGORIAN
PRODID:-//Diputació de Barcelona//DibaCMS//EN
BEGIN:VEVENT
UID:24577
DTSTAMP:20260421T235148
DTSTART:20120713T000000
DTEND:20120715T000000
SUMMARY:Festa Major del Portell
LOCATION:
METHOD:PUBLISH
X-WR-CALNAME:e-seu@ajpiera.cat
X-WR-TIMEZONE:Europe/Madrid
DESCRIPTION:Festa Major del Portell

URI:https://www.viladepiera.cat/actualitat/agenda/24577-festa-major-del-portell.html
CLASS:PUBLIC
END:VEVENT
END:VCALENDAR
