BEGIN:VCALENDAR
VERSION:2.0
CALSCALE:GREGORIAN
PRODID:-//Diputació de Barcelona//DibaCMS//EN
BEGIN:VEVENT
UID:24587
DTSTAMP:20260422T022816
DTSTART:20120713T230000
DTEND:20120713T000000
SUMMARY:Acústics a l'Espai d'Entitats
LOCATION:
METHOD:PUBLISH
X-WR-CALNAME:e-seu@ajpiera.cat
X-WR-TIMEZONE:Europe/Madrid
DESCRIPTION:Acústics a l'Espai d'Entitats
URI:https://www.viladepiera.cat/actualitat/agenda/24587-acustics-a-lespai-dentitats.html
CLASS:PUBLIC
END:VEVENT
END:VCALENDAR
