BEGIN:VCALENDAR
VERSION:2.0
CALSCALE:GREGORIAN
PRODID:-//Diputació de Barcelona//DibaCMS//EN
BEGIN:VEVENT
UID:24609
DTSTAMP:20260422T000536
DTSTART:20120714T000000
DTEND:20120714T000000
SUMMARY:Barri Unificat
LOCATION:
METHOD:PUBLISH
X-WR-CALNAME:e-seu@ajpiera.cat
X-WR-TIMEZONE:Europe/Madrid
DESCRIPTION:Barri Unificat
URI:https://www.viladepiera.cat/actualitat/agenda/24609-barri-unificat.html
CLASS:PUBLIC
END:VEVENT
END:VCALENDAR
