BEGIN:VCALENDAR
VERSION:2.0
CALSCALE:GREGORIAN
PRODID:-//Diputació de Barcelona//DibaCMS//EN
BEGIN:VEVENT
UID:24625
DTSTAMP:20260421T224412
DTSTART:20120720T000000
DTEND:20120722T000000
SUMMARY:Festa Major del Barri la Plana - Fàbrica Nova
LOCATION:
METHOD:PUBLISH
X-WR-CALNAME:e-seu@ajpiera.cat
X-WR-TIMEZONE:Europe/Madrid
DESCRIPTION:Festa Major del Barri la Plana - Fàbrica Nova

URI:https://www.viladepiera.cat/actualitat/agenda/festa-major-del-barri-la-plana-fabrica-nova.html
CLASS:PUBLIC
END:VEVENT
END:VCALENDAR
