BEGIN:VCALENDAR
VERSION:2.0
CALSCALE:GREGORIAN
PRODID:-//Diputació de Barcelona//DibaCMS//EN
BEGIN:VEVENT
UID:24644
DTSTAMP:20260421T104434
DTSTART:20140517T090000
DTEND:20140517T000000
SUMMARY:Torneig de petanca
LOCATION:
METHOD:PUBLISH
X-WR-CALNAME:e-seu@ajpiera.cat
X-WR-TIMEZONE:Europe/Madrid
DESCRIPTION:Torneig de petanca
URI:https://www.viladepiera.cat/actualitat/agenda/24644-torneig-de-petanca.html
CLASS:PUBLIC
END:VEVENT
END:VCALENDAR
