BEGIN:VCALENDAR
VERSION:2.0
CALSCALE:GREGORIAN
PRODID:-//Diputació de Barcelona//DibaCMS//EN
BEGIN:VEVENT
UID:24647
DTSTAMP:20260422T061319
DTSTART:20120721T000000
DTEND:20120722T000000
SUMMARY:Festa Major Associació Can Mata 2010
LOCATION:
METHOD:PUBLISH
X-WR-CALNAME:e-seu@ajpiera.cat
X-WR-TIMEZONE:Europe/Madrid
DESCRIPTION:Festa Major Associació Can Mata 2010

URI:https://www.viladepiera.cat/actualitat/agenda/festa-major-associacio-can-mata-2010.html
CLASS:PUBLIC
END:VEVENT
END:VCALENDAR
