BEGIN:VCALENDAR
VERSION:2.0
CALSCALE:GREGORIAN
PRODID:-//Diputació de Barcelona//DibaCMS//EN
BEGIN:VEVENT
UID:24653
DTSTAMP:20260421T235049
DTSTART:20120724T220000
DTEND:20120728T000000
SUMMARY:V Setmana del cinema de terror
LOCATION:
METHOD:PUBLISH
X-WR-CALNAME:e-seu@ajpiera.cat
X-WR-TIMEZONE:Europe/Madrid
DESCRIPTION:V Setmana del cinema de terror

URI:https://www.viladepiera.cat/actualitat/agenda/v-setmana-del-cinema-de-terror.html
CLASS:PUBLIC
END:VEVENT
END:VCALENDAR
