BEGIN:VCALENDAR
VERSION:2.0
CALSCALE:GREGORIAN
PRODID:-//Diputació de Barcelona//DibaCMS//EN
BEGIN:VEVENT
UID:24658
DTSTAMP:20260422T001948
DTSTART:20120725T000000
DTEND:20120730T000000
SUMMARY:Festa Major de Sant Jaume
LOCATION:
METHOD:PUBLISH
X-WR-CALNAME:e-seu@ajpiera.cat
X-WR-TIMEZONE:Europe/Madrid
DESCRIPTION:Festa Major de Sant Jaume

URI:https://www.viladepiera.cat/actualitat/agenda/24658-festa-major-de-sant-jaume.html
CLASS:PUBLIC
END:VEVENT
END:VCALENDAR
