BEGIN:VCALENDAR
VERSION:2.0
CALSCALE:GREGORIAN
PRODID:-//Diputació de Barcelona//DibaCMS//EN
BEGIN:VEVENT
UID:24669
DTSTAMP:20260425T143242
DTSTART:20140530T190000
DTEND:20140530T000000
SUMMARY:Xerrada: Viatjar al teu aire
LOCATION:
METHOD:PUBLISH
X-WR-CALNAME:e-seu@ajpiera.cat
X-WR-TIMEZONE:Europe/Madrid
DESCRIPTION:Xerrada: Viatjar al teu aire
URI:https://www.viladepiera.cat/actualitat/agenda/xerrada-viatjar-al-teu-aire.html
CLASS:PUBLIC
END:VEVENT
END:VCALENDAR
