BEGIN:VCALENDAR
VERSION:2.0
CALSCALE:GREGORIAN
PRODID:-//Diputació de Barcelona//DibaCMS//EN
BEGIN:VEVENT
UID:24670
DTSTAMP:20260422T014112
DTSTART:20120726T000000
DTEND:20120727T000000
SUMMARY:Inspecció tècnica de maquinària agrícola
LOCATION:
METHOD:PUBLISH
X-WR-CALNAME:e-seu@ajpiera.cat
X-WR-TIMEZONE:Europe/Madrid
DESCRIPTION:Inspecció tècnica de maquinària agrícola

URI:https://www.viladepiera.cat/actualitat/agenda/24670-inspeccio-tecnica-de-maquinaria-agricola.html
CLASS:PUBLIC
END:VEVENT
END:VCALENDAR
