BEGIN:VCALENDAR
VERSION:2.0
CALSCALE:GREGORIAN
PRODID:-//Diputació de Barcelona//DibaCMS//EN
BEGIN:VEVENT
UID:24675
DTSTAMP:20260422T011852
DTSTART:20120727T220000
DTEND:20120727T000000
SUMMARY:Sortida de Pierenques: Caminant de nit
LOCATION:
METHOD:PUBLISH
X-WR-CALNAME:e-seu@ajpiera.cat
X-WR-TIMEZONE:Europe/Madrid
DESCRIPTION:Sortida de Pierenques: Caminant de nit
URI:https://www.viladepiera.cat/actualitat/agenda/sortida-de-pierenques-caminant-de-nit.html
CLASS:PUBLIC
END:VEVENT
END:VCALENDAR
