BEGIN:VCALENDAR
VERSION:2.0
CALSCALE:GREGORIAN
PRODID:-//Diputació de Barcelona//DibaCMS//EN
BEGIN:VEVENT
UID:24680
DTSTAMP:20260422T033206
DTSTART:20120727T000000
DTEND:20120729T000000
SUMMARY:Festa Major de Can Mata
LOCATION:
METHOD:PUBLISH
X-WR-CALNAME:e-seu@ajpiera.cat
X-WR-TIMEZONE:Europe/Madrid
DESCRIPTION:Festa Major de Can Mata

URI:https://www.viladepiera.cat/actualitat/agenda/24680-festa-major-de-can-mata.html
CLASS:PUBLIC
END:VEVENT
END:VCALENDAR
