BEGIN:VCALENDAR
VERSION:2.0
CALSCALE:GREGORIAN
PRODID:-//Diputació de Barcelona//DibaCMS//EN
BEGIN:VEVENT
UID:24692
DTSTAMP:20260422T001332
DTSTART:20120727T220000
DTEND:20120727T000000
SUMMARY:Concert del cicle: "A l'Estiu Música en Viu"
LOCATION:
METHOD:PUBLISH
X-WR-CALNAME:e-seu@ajpiera.cat
X-WR-TIMEZONE:Europe/Madrid
DESCRIPTION:Concert del cicle: "A l'Estiu Música en Viu"
URI:https://www.viladepiera.cat/actualitat/agenda/24692-concert-del-cicle-a-lestiu-musica-en-viu.html
CLASS:PUBLIC
END:VEVENT
END:VCALENDAR
