BEGIN:VCALENDAR
VERSION:2.0
CALSCALE:GREGORIAN
PRODID:-//Diputació de Barcelona//DibaCMS//EN
BEGIN:VEVENT
UID:24697
DTSTAMP:20260422T063443
DTSTART:20120727T200000
DTEND:20120727T000000
SUMMARY:Conferència d'Arcadi Oliveras
LOCATION:
METHOD:PUBLISH
X-WR-CALNAME:e-seu@ajpiera.cat
X-WR-TIMEZONE:Europe/Madrid
DESCRIPTION:Conferència d'Arcadi Oliveras
URI:https://www.viladepiera.cat/actualitat/agenda/conferencia-darcadi-oliveras.html
CLASS:PUBLIC
END:VEVENT
END:VCALENDAR
