BEGIN:VCALENDAR
VERSION:2.0
CALSCALE:GREGORIAN
PRODID:-//Diputació de Barcelona//DibaCMS//EN
BEGIN:VEVENT
UID:24702
DTSTAMP:20260422T033217
DTSTART:20120728T000000
DTEND:20120728T000000
SUMMARY:Carnaval do Verao
LOCATION:
METHOD:PUBLISH
X-WR-CALNAME:e-seu@ajpiera.cat
X-WR-TIMEZONE:Europe/Madrid
DESCRIPTION:Carnaval do Verao

URI:https://www.viladepiera.cat/actualitat/agenda/24702-carnaval-do-verao.html
CLASS:PUBLIC
END:VEVENT
END:VCALENDAR
