BEGIN:VCALENDAR
VERSION:2.0
CALSCALE:GREGORIAN
PRODID:-//Diputació de Barcelona//DibaCMS//EN
BEGIN:VEVENT
UID:24707
DTSTAMP:20260421T161930
DTSTART:20140607T083000
DTEND:20140607T000000
SUMMARY:Sortida cultural: Els nostres orígens. El Moianès
LOCATION:
METHOD:PUBLISH
X-WR-CALNAME:e-seu@ajpiera.cat
X-WR-TIMEZONE:Europe/Madrid
DESCRIPTION:Sortida cultural: Els nostres orígens. El Moianès
URI:https://www.viladepiera.cat/actualitat/agenda/sortida-cultural-els-nostres-origens-el-moianes.html
CLASS:PUBLIC
END:VEVENT
END:VCALENDAR
