BEGIN:VCALENDAR
VERSION:2.0
CALSCALE:GREGORIAN
PRODID:-//Diputació de Barcelona//DibaCMS//EN
BEGIN:VEVENT
UID:24708
DTSTAMP:20260421T202752
DTSTART:20120728T000000
DTEND:20120728T000000
SUMMARY:Festa de l'Agrupació Sardanista
LOCATION:
METHOD:PUBLISH
X-WR-CALNAME:e-seu@ajpiera.cat
X-WR-TIMEZONE:Europe/Madrid
DESCRIPTION:38è Aniversari de l'Agrupació Sardanista de Piera

URI:https://www.viladepiera.cat/actualitat/agenda/24708-festa-de-lagrupacio-sardanista.html
CLASS:PUBLIC
END:VEVENT
END:VCALENDAR
