BEGIN:VCALENDAR
VERSION:2.0
CALSCALE:GREGORIAN
PRODID:-//Diputació de Barcelona//DibaCMS//EN
BEGIN:VEVENT
UID:24723
DTSTAMP:20260421T231730
DTSTART:20120728T000000
DTEND:20120728T000000
SUMMARY:Festa del Castell de la Ventosa Zona B
LOCATION:
METHOD:PUBLISH
X-WR-CALNAME:e-seu@ajpiera.cat
X-WR-TIMEZONE:Europe/Madrid
DESCRIPTION:Festa del Castell de la Ventosa Zona B

URI:https://www.viladepiera.cat/actualitat/agenda/24723-festa-del-castell-de-la-ventosa-zona-b.html
CLASS:PUBLIC
END:VEVENT
END:VCALENDAR
