BEGIN:VCALENDAR
VERSION:2.0
CALSCALE:GREGORIAN
PRODID:-//Diputació de Barcelona//DibaCMS//EN
BEGIN:VEVENT
UID:24733
DTSTAMP:20260422T002827
DTSTART:20120803T000000
DTEND:20120803T000000
SUMMARY:Inici d'exposició: 100 anys d'en Massagran
LOCATION:
METHOD:PUBLISH
X-WR-CALNAME:e-seu@ajpiera.cat
X-WR-TIMEZONE:Europe/Madrid
DESCRIPTION:Inici d'exposició: 100 anys d'en Massagran

URI:https://www.viladepiera.cat/actualitat/agenda/inici-dexposicio-100-anys-den-massagran.html
CLASS:PUBLIC
END:VEVENT
END:VCALENDAR
