BEGIN:VCALENDAR
VERSION:2.0
CALSCALE:GREGORIAN
PRODID:-//Diputació de Barcelona//DibaCMS//EN
BEGIN:VEVENT
UID:24738
DTSTAMP:20260422T001647
DTSTART:20120803T000000
DTEND:20120805T000000
SUMMARY:Festes de Can Martí de l'Estela
LOCATION:
METHOD:PUBLISH
X-WR-CALNAME:e-seu@ajpiera.cat
X-WR-TIMEZONE:Europe/Madrid
DESCRIPTION:Festes de Can Martí de l'Estela

URI:https://www.viladepiera.cat/actualitat/agenda/24738-festes-de-can-marti-de-lestela.html
CLASS:PUBLIC
END:VEVENT
END:VCALENDAR
