BEGIN:VCALENDAR
VERSION:2.0
CALSCALE:GREGORIAN
PRODID:-//Diputació de Barcelona//DibaCMS//EN
BEGIN:VEVENT
UID:24747
DTSTAMP:20260421T215510
DTSTART:20120810T000000
DTEND:20120815T000000
SUMMARY:Festa Major de La Venta - Can Musarro
LOCATION:
METHOD:PUBLISH
X-WR-CALNAME:e-seu@ajpiera.cat
X-WR-TIMEZONE:Europe/Madrid
DESCRIPTION:Festa Major de La Venta - Can Musarro

URI:https://www.viladepiera.cat/actualitat/agenda/festa-major-de-la-venta-can-musarro.html
CLASS:PUBLIC
END:VEVENT
END:VCALENDAR
