BEGIN:VCALENDAR
VERSION:2.0
CALSCALE:GREGORIAN
PRODID:-//Diputació de Barcelona//DibaCMS//EN
BEGIN:VEVENT
UID:24752
DTSTAMP:20260421T202617
DTSTART:20120815T000000
DTEND:20120815T000000
SUMMARY:Graellada Popular a Can Mata
LOCATION:
METHOD:PUBLISH
X-WR-CALNAME:e-seu@ajpiera.cat
X-WR-TIMEZONE:Europe/Madrid
DESCRIPTION:Graellada Popular a Can Mata

URI:https://www.viladepiera.cat/actualitat/agenda/graellada-popular-a-can-mata.html
CLASS:PUBLIC
END:VEVENT
END:VCALENDAR
