BEGIN:VCALENDAR
VERSION:2.0
CALSCALE:GREGORIAN
PRODID:-//Diputació de Barcelona//DibaCMS//EN
BEGIN:VEVENT
UID:24772
DTSTAMP:20260422T035406
DTSTART:20120825T000000
DTEND:20120825T000000
SUMMARY:Marxa cap a la independència a Montserrat
LOCATION:
METHOD:PUBLISH
X-WR-CALNAME:e-seu@ajpiera.cat
X-WR-TIMEZONE:Europe/Madrid
DESCRIPTION:Marxa cap a la independència a Montserrat

URI:https://www.viladepiera.cat/actualitat/agenda/marxa-cap-a-la-independencia-a-montserrat.html
CLASS:PUBLIC
END:VEVENT
END:VCALENDAR
