BEGIN:VCALENDAR
VERSION:2.0
CALSCALE:GREGORIAN
PRODID:-//Diputació de Barcelona//DibaCMS//EN
BEGIN:VEVENT
UID:24773
DTSTAMP:20260421T110525
DTSTART:20140620T190000
DTEND:20140620T190000
SUMMARY:Teatre: Hamlet (o no)
LOCATION:
METHOD:PUBLISH
X-WR-CALNAME:e-seu@ajpiera.cat
X-WR-TIMEZONE:Europe/Madrid
DESCRIPTION:Teatre: Hamlet (o no)

URI:https://www.viladepiera.cat/actualitat/agenda/24773-teatre-hamlet-o-no.html
CLASS:PUBLIC
END:VEVENT
END:VCALENDAR
