BEGIN:VCALENDAR
VERSION:2.0
CALSCALE:GREGORIAN
PRODID:-//Diputació de Barcelona//DibaCMS//EN
BEGIN:VEVENT
UID:24781
DTSTAMP:20260421T215632
DTSTART:20120901T173000
DTEND:20120901T000000
SUMMARY:Trobada i festa del pubillatge
LOCATION:
METHOD:PUBLISH
X-WR-CALNAME:e-seu@ajpiera.cat
X-WR-TIMEZONE:Europe/Madrid
DESCRIPTION:Trobada i festa del pubillatge
URI:https://www.viladepiera.cat/actualitat/agenda/trobada-i-festa-del-pubillatge.html
CLASS:PUBLIC
END:VEVENT
END:VCALENDAR
