BEGIN:VCALENDAR
VERSION:2.0
CALSCALE:GREGORIAN
PRODID:-//Diputació de Barcelona//DibaCMS//EN
BEGIN:VEVENT
UID:24786
DTSTAMP:20260422T100947
DTSTART:20120901T190000
DTEND:20120901T000000
SUMMARY:Pierrakes 2012
LOCATION:
METHOD:PUBLISH
X-WR-CALNAME:e-seu@ajpiera.cat
X-WR-TIMEZONE:Europe/Madrid
DESCRIPTION:Pierrakes 2012
URI:https://www.viladepiera.cat/actualitat/agenda/pierrakes-2012.html
CLASS:PUBLIC
END:VEVENT
END:VCALENDAR
