BEGIN:VCALENDAR
VERSION:2.0
CALSCALE:GREGORIAN
PRODID:-//Diputació de Barcelona//DibaCMS//EN
BEGIN:VEVENT
UID:24791
DTSTAMP:20260422T045441
DTSTART:20120901T200000
DTEND:20120901T000000
SUMMARY:Ball de capvespre
LOCATION:
METHOD:PUBLISH
X-WR-CALNAME:e-seu@ajpiera.cat
X-WR-TIMEZONE:Europe/Madrid
DESCRIPTION:Ball de capvespre
URI:https://www.viladepiera.cat/actualitat/agenda/24791-ball-de-capvespre.html
CLASS:PUBLIC
END:VEVENT
END:VCALENDAR
