BEGIN:VCALENDAR
VERSION:2.0
CALSCALE:GREGORIAN
PRODID:-//Diputació de Barcelona//DibaCMS//EN
BEGIN:VEVENT
UID:24796
DTSTAMP:20260422T012929
DTSTART:20120902T090000
DTEND:20120902T000000
SUMMARY:La Fruita Dolça: de l'arbre al Mercat
LOCATION:
METHOD:PUBLISH
X-WR-CALNAME:e-seu@ajpiera.cat
X-WR-TIMEZONE:Europe/Madrid
DESCRIPTION:La Fruita Dolça: de l'arbre al Mercat
URI:https://www.viladepiera.cat/actualitat/agenda/la-fruita-dolca-de-larbre-al-mercat.html
CLASS:PUBLIC
END:VEVENT
END:VCALENDAR
