BEGIN:VCALENDAR
VERSION:2.0
CALSCALE:GREGORIAN
PRODID:-//Diputació de Barcelona//DibaCMS//EN
BEGIN:VEVENT
UID:24801
DTSTAMP:20260422T013940
DTSTART:20120902T120000
DTEND:20120902T140000
SUMMARY:Exposició al Castell de Piera
LOCATION:
METHOD:PUBLISH
X-WR-CALNAME:e-seu@ajpiera.cat
X-WR-TIMEZONE:Europe/Madrid
DESCRIPTION:Exposició al Castell de Piera

URI:https://www.viladepiera.cat/actualitat/agenda/exposicio-al-castell-de-piera.html
CLASS:PUBLIC
END:VEVENT
END:VCALENDAR
