BEGIN:VCALENDAR
VERSION:2.0
CALSCALE:GREGORIAN
PRODID:-//Diputació de Barcelona//DibaCMS//EN
BEGIN:VEVENT
UID:24816
DTSTAMP:20260421T220359
DTSTART:20120907T190000
DTEND:20120907T190000
SUMMARY:Inauguració d'exposició: La FAP, descobrim els valors
LOCATION:
METHOD:PUBLISH
X-WR-CALNAME:e-seu@ajpiera.cat
X-WR-TIMEZONE:Europe/Madrid
DESCRIPTION:Inauguració d'exposició: La FAP, descobrim els valors

URI:https://www.viladepiera.cat/actualitat/agenda/inauguracio-dexposicio-la-fap-descobrim-els-valors.html
CLASS:PUBLIC
END:VEVENT
END:VCALENDAR
