BEGIN:VCALENDAR
VERSION:2.0
CALSCALE:GREGORIAN
PRODID:-//Diputació de Barcelona//DibaCMS//EN
BEGIN:VEVENT
UID:24820
DTSTAMP:20260421T231745
DTSTART:20120907T190000
DTEND:20120907T000000
SUMMARY:Inauguració d'exposició: Retrats i paisatges 
LOCATION:
METHOD:PUBLISH
X-WR-CALNAME:e-seu@ajpiera.cat
X-WR-TIMEZONE:Europe/Madrid
DESCRIPTION:Inauguració d'exposició: Retrats i paisatges 
URI:https://www.viladepiera.cat/actualitat/agenda/inauguracio-dexposicio-retrats-i-paisatges-.html
CLASS:PUBLIC
END:VEVENT
END:VCALENDAR
