BEGIN:VCALENDAR
VERSION:2.0
CALSCALE:GREGORIAN
PRODID:-//Diputació de Barcelona//DibaCMS//EN
BEGIN:VEVENT
UID:24825
DTSTAMP:20260421T220919
DTSTART:20120908T000000
DTEND:20120909T000000
SUMMARY:Festa Major dels Boscos de Can Martí
LOCATION:
METHOD:PUBLISH
X-WR-CALNAME:e-seu@ajpiera.cat
X-WR-TIMEZONE:Europe/Madrid
DESCRIPTION:Festa Major dels Boscos de Can Martí
URI:https://www.viladepiera.cat/actualitat/agenda/24825-festa-major-dels-boscos-de-can-marti.html
CLASS:PUBLIC
END:VEVENT
END:VCALENDAR
