BEGIN:VCALENDAR
VERSION:2.0
CALSCALE:GREGORIAN
PRODID:-//Diputació de Barcelona//DibaCMS//EN
BEGIN:VEVENT
UID:24835
DTSTAMP:20260421T222500
DTSTART:20120908T180000
DTEND:20120908T200000
SUMMARY:III Memorial Jaume Feixas
LOCATION:
METHOD:PUBLISH
X-WR-CALNAME:e-seu@ajpiera.cat
X-WR-TIMEZONE:Europe/Madrid
DESCRIPTION:III Memorial Jaume Feixas
URI:https://www.viladepiera.cat/actualitat/agenda/iii-memorial-jaume-feixas.html
CLASS:PUBLIC
END:VEVENT
END:VCALENDAR
