BEGIN:VCALENDAR
VERSION:2.0
CALSCALE:GREGORIAN
PRODID:-//Diputació de Barcelona//DibaCMS//EN
BEGIN:VEVENT
UID:24848
DTSTAMP:20260421T210029
DTSTART:20120911T180000
DTEND:20120911T000000
SUMMARY:Partit de futbol de veterans
LOCATION:
METHOD:PUBLISH
X-WR-CALNAME:e-seu@ajpiera.cat
X-WR-TIMEZONE:Europe/Madrid
DESCRIPTION:Partit de futbol de veterans
URI:https://www.viladepiera.cat/actualitat/agenda/partit-de-futbol-de-veterans.html
CLASS:PUBLIC
END:VEVENT
END:VCALENDAR
