BEGIN:VCALENDAR
VERSION:2.0
CALSCALE:GREGORIAN
PRODID:-//Diputació de Barcelona//DibaCMS//EN
BEGIN:VEVENT
UID:24857
DTSTAMP:20260421T210115
DTSTART:20120915T000000
DTEND:20120916T000000
SUMMARY:II Trofeu Albert Bosch de pàdel
LOCATION:
METHOD:PUBLISH
X-WR-CALNAME:e-seu@ajpiera.cat
X-WR-TIMEZONE:Europe/Madrid
DESCRIPTION:II Trofeu Albert Bosch de pàdel
URI:https://www.viladepiera.cat/actualitat/agenda/ii-trofeu-albert-bosch-de-padel.html
CLASS:PUBLIC
END:VEVENT
END:VCALENDAR
