BEGIN:VCALENDAR
VERSION:2.0
CALSCALE:GREGORIAN
PRODID:-//Diputació de Barcelona//DibaCMS//EN
BEGIN:VEVENT
UID:24863
DTSTAMP:20260421T210237
DTSTART:20120923T100000
DTEND:20120923T000000
SUMMARY:Pedalada contra el canvi climàtic
LOCATION:
METHOD:PUBLISH
X-WR-CALNAME:e-seu@ajpiera.cat
X-WR-TIMEZONE:Europe/Madrid
DESCRIPTION:Pedalada contra el canvi climàtic
URI:https://www.viladepiera.cat/actualitat/agenda/24863-pedalada-contra-el-canvi-climatic.html
CLASS:PUBLIC
END:VEVENT
END:VCALENDAR
