BEGIN:VCALENDAR
VERSION:2.0
CALSCALE:GREGORIAN
PRODID:-//Diputació de Barcelona//DibaCMS//EN
BEGIN:VEVENT
UID:24881
DTSTAMP:20260421T215712
DTSTART:20120930T100000
DTEND:20120930T000000
SUMMARY:JEP 2012: De les vinyes a la cava Pagès-Entrena
LOCATION:
METHOD:PUBLISH
X-WR-CALNAME:e-seu@ajpiera.cat
X-WR-TIMEZONE:Europe/Madrid
DESCRIPTION:JEP 2012: De les vinyes a la cava Pagès-Entrena
URI:https://www.viladepiera.cat/actualitat/agenda/jep-2012-de-les-vinyes-a-la-cava-pages-entrena.html
CLASS:PUBLIC
END:VEVENT
END:VCALENDAR
