BEGIN:VCALENDAR
VERSION:2.0
CALSCALE:GREGORIAN
PRODID:-//Diputació de Barcelona//DibaCMS//EN
BEGIN:VEVENT
UID:24886
DTSTAMP:20260421T203832
DTSTART:20120930T100000
DTEND:20120930T140000
SUMMARY:Jornades Europees del Patrimoni
LOCATION:
METHOD:PUBLISH
X-WR-CALNAME:e-seu@ajpiera.cat
X-WR-TIMEZONE:Europe/Madrid
DESCRIPTION:Jornades Europees del Patrimoni

URI:https://www.viladepiera.cat/actualitat/agenda/24886-jornades-europees-del-patrimoni.html
CLASS:PUBLIC
END:VEVENT
END:VCALENDAR
