BEGIN:VCALENDAR
VERSION:2.0
CALSCALE:GREGORIAN
PRODID:-//Diputació de Barcelona//DibaCMS//EN
BEGIN:VEVENT
UID:24889
DTSTAMP:20260421T215605
DTSTART:20120930T123000
DTEND:20120930T000000
SUMMARY:Inauguració zona d'esbarjo Font del Prat
LOCATION:
METHOD:PUBLISH
X-WR-CALNAME:e-seu@ajpiera.cat
X-WR-TIMEZONE:Europe/Madrid
DESCRIPTION:Inauguració zona d'esbarjo Font del Prat
URI:https://www.viladepiera.cat/actualitat/agenda/inauguracio-zona-desbarjo-font-del-prat.html
CLASS:PUBLIC
END:VEVENT
END:VCALENDAR
