BEGIN:VCALENDAR
VERSION:2.0
CALSCALE:GREGORIAN
PRODID:-//Diputació de Barcelona//DibaCMS//EN
BEGIN:VEVENT
UID:24895
DTSTAMP:20260422T045309
DTSTART:20120930T100000
DTEND:20120930T140000
SUMMARY:Mercat de la Fruita Dolça (últim dia)
LOCATION:
METHOD:PUBLISH
X-WR-CALNAME:e-seu@ajpiera.cat
X-WR-TIMEZONE:Europe/Madrid
DESCRIPTION:Mercat de la Fruita Dolça (últim dia)
URI:https://www.viladepiera.cat/actualitat/agenda/mercat-de-la-fruita-dolca-ultim-dia.html
CLASS:PUBLIC
END:VEVENT
END:VCALENDAR
